BEGIN:VCALENDAR
VERSION:2.0
PRODID:spatie/icalendar-generator
DESCRIPTION:Eventi da Legacoop Nazionale
X-WR-CALDESC:Eventi da Legacoop Nazionale
REFRESH-INTERVAL;VALUE=DURATION:PT1440M
X-PUBLISHED-TTL:PT1440M
BEGIN:VTIMEZONE
TZID:Europe/Rome
BEGIN:DAYLIGHT
DTSTART:20240331T020000Z
TZOFFSETFROM:+0100
TZOFFSETTO:+0200
END:DAYLIGHT
BEGIN:STANDARD
DTSTART:20241027T030000Z
TZOFFSETFROM:+0200
TZOFFSETTO:+0100
END:STANDARD
BEGIN:DAYLIGHT
DTSTART:20250330T020000Z
TZOFFSETFROM:+0100
TZOFFSETTO:+0200
END:DAYLIGHT
END:VTIMEZONE
BEGIN:VTIMEZONE
TZID:UTC
BEGIN:STANDARD
DTSTART:20250726T215544Z
TZOFFSETFROM:+0000
TZOFFSETTO:+0000
END:STANDARD
END:VTIMEZONE
BEGIN:VEVENT
UID:74-60
DTSTAMP:20260422T215544Z
SUMMARY:A New Delhi dal 25 al 30 novembre la Conferenza Cooperativa Globale
  ICA
LOCATION:
ORGANIZER;CN=legacoop:MAILTO:jacopo.panico@es-comunicazione.eu
DTSTART;TZID=Europe/Rome:20241125T090000
DTEND;TZID=Europe/Rome:20241130T200000
X-ALT-DESC;FMTTYPE=TEXT/HTML:Si terrà a New Delhi dal 25 al 30 novembre la
  Global Cooperative Conference 2024 dell'International Cooperative Allianc
 e. Il Programma dell'evento prevede tra i momenti più salienti il lancio 
 dell'Anno Internazionale delle Cooperative dichiarato per il 2025 dalle Na
 zioni Unite. Legacoop\, insieme ai colleghi dell'Azienda Cooperativa Inter
 nazionale\, è stata invitata a contribuire in numerosi Panel\,&amp;hellip\;
CATEGORIES:Nazionale,  Evidenza
URL;VALUE=URI:https://www.legacoop.coop/eventi/a-new-delhi-dal-25-al-30-nov
 embre-la-conferenza-cooperativa-globale-ica/
METHOD:PUBLISH
END:VEVENT
END:VCALENDAR