BEGIN:VCALENDAR
VERSION:2.0
PRODID:spatie/icalendar-generator
DESCRIPTION:Eventi da Legacoop Nazionale
X-WR-CALDESC:Eventi da Legacoop Nazionale
REFRESH-INTERVAL;VALUE=DURATION:PT1440M
X-PUBLISHED-TTL:PT1440M
BEGIN:VTIMEZONE
TZID:Europe/Rome
BEGIN:DAYLIGHT
DTSTART:20240331T020000Z
TZOFFSETFROM:+0100
TZOFFSETTO:+0200
END:DAYLIGHT
BEGIN:STANDARD
DTSTART:20241027T030000Z
TZOFFSETFROM:+0200
TZOFFSETTO:+0100
END:STANDARD
BEGIN:DAYLIGHT
DTSTART:20250330T020000Z
TZOFFSETFROM:+0100
TZOFFSETTO:+0200
END:DAYLIGHT
END:VTIMEZONE
BEGIN:VTIMEZONE
TZID:UTC
BEGIN:STANDARD
DTSTART:20250728T232522Z
TZOFFSETFROM:+0000
TZOFFSETTO:+0000
END:STANDARD
END:VTIMEZONE
BEGIN:VEVENT
UID:64-50
DTSTAMP:20260424T232522Z
SUMMARY:AI challenge: come l'organizzazione e le persone possono fronteggia
 re la sfida del cambiamento. Da un'idea di Legacoop Liguria
LOCATION:
ORGANIZER;CN=legacoop:MAILTO:jacopo.panico@es-comunicazione.eu
DTSTART;TZID=Europe/Rome:20241206T120000
DTEND;TZID=Europe/Rome:20241206T130000
X-ALT-DESC;FMTTYPE=TEXT/HTML:Venerdì 6 dicembre – ore 12.00 AI CHALLENGE
 : l’organizzazione e le persone di fronte alla sfida del cambiamento Con
  Fabrizio Bracco\, professore associato di Psicologia del Lavoro e delle 
 Organizzazioni presso l’Università di Genova La tecnologia può avere u
 n impatto positivo o negativo su ogni aspetto del lavoro. L’unico modo p
 er trarre profitto collettivamente dalla digitalizzazione&amp;hellip\;
CATEGORIES:Nazionale
URL;VALUE=URI:https://www.legacoop.coop/eventi/ai-challenge-come-lorganizza
 zione-e-le-persone-possono-fronteggiare-la-sfida-del-cambiamento-da-unidea
 -di-legacoop-liguria/
METHOD:PUBLISH
END:VEVENT
END:VCALENDAR