BEGIN:VCALENDAR
VERSION:2.0
PRODID:spatie/icalendar-generator
DESCRIPTION:Eventi da Legacoop Nazionale
X-WR-CALDESC:Eventi da Legacoop Nazionale
REFRESH-INTERVAL;VALUE=DURATION:PT1440M
X-PUBLISHED-TTL:PT1440M
BEGIN:VTIMEZONE
TZID:Europe/Rome
BEGIN:DAYLIGHT
DTSTART:20240331T020000Z
TZOFFSETFROM:+0100
TZOFFSETTO:+0200
END:DAYLIGHT
BEGIN:STANDARD
DTSTART:20241027T030000Z
TZOFFSETFROM:+0200
TZOFFSETTO:+0100
END:STANDARD
BEGIN:DAYLIGHT
DTSTART:20250330T020000Z
TZOFFSETFROM:+0100
TZOFFSETTO:+0200
END:DAYLIGHT
END:VTIMEZONE
BEGIN:VTIMEZONE
TZID:UTC
BEGIN:STANDARD
DTSTART:20250727T223945Z
TZOFFSETFROM:+0000
TZOFFSETTO:+0000
END:STANDARD
END:VTIMEZONE
BEGIN:VEVENT
UID:60-46
DTSTAMP:20260423T223945Z
SUMMARY:\"Giovani Comunità e Futuro: un cammino condiviso\". Il 1° evento
  nazionale del Centro di competenze ANCI sulle politiche giovanili locali\
 , in collaborazione con Legacoop
LOCATION:
ORGANIZER;CN=legacoop:MAILTO:jacopo.panico@es-comunicazione.eu
DTSTART;TZID=Europe/Rome:20241210T103000
DTEND;TZID=Europe/Rome:20241210T163000
X-ALT-DESC;FMTTYPE=TEXT/HTML:📅 Quando: martedì 10 dicembre (dalle 10.30
  alle 16.30) 📍 Dove: sede Legacoop Nazionale - via Giuseppe Antonio Gua
 ttani 9\, Roma Agenda lavori - Sessione plenaria: il quadro di contesto te
 rritoriale\, sociale ed economico nel quale si collocano gli interventi lo
 cali per gli U35\; - Esperienze di sindaci U35\, giovani cooperatori e fon
 dazioni bancarie\; -&amp;hellip\;
CATEGORIES:Nazionale,  Evidenza
URL;VALUE=URI:https://www.legacoop.coop/eventi/giovani-comunita-e-futuro-un
 -cammino-condiviso-il-1-evento-nazionale-del-centro-di-competenze-anci-sul
 le-politiche-giovanili-locali-in-collaborazione-con-legacoop/
METHOD:PUBLISH
END:VEVENT
END:VCALENDAR