BEGIN:VCALENDAR
VERSION:2.0
PRODID:spatie/icalendar-generator
DESCRIPTION:Eventi da Legacoop Nazionale
X-WR-CALDESC:Eventi da Legacoop Nazionale
REFRESH-INTERVAL;VALUE=DURATION:PT1440M
X-PUBLISHED-TTL:PT1440M
BEGIN:VTIMEZONE
TZID:Europe/Rome
BEGIN:DAYLIGHT
DTSTART:20240331T020000Z
TZOFFSETFROM:+0100
TZOFFSETTO:+0200
END:DAYLIGHT
BEGIN:STANDARD
DTSTART:20241027T030000Z
TZOFFSETFROM:+0200
TZOFFSETTO:+0100
END:STANDARD
BEGIN:DAYLIGHT
DTSTART:20250330T020000Z
TZOFFSETFROM:+0100
TZOFFSETTO:+0200
END:DAYLIGHT
END:VTIMEZONE
BEGIN:VTIMEZONE
TZID:UTC
BEGIN:STANDARD
DTSTART:20250728T095932Z
TZOFFSETFROM:+0000
TZOFFSETTO:+0000
END:STANDARD
END:VTIMEZONE
BEGIN:VEVENT
UID:45-32
DTSTAMP:20260424T095932Z
SUMMARY:Assemblea congressuale Legacoop Abitanti
LOCATION:
ORGANIZER;CN=legacoop:MAILTO:jacopo.panico@es-comunicazione.eu
DTSTART;TZID=Europe/Rome;VALUE=DATE:20240926
DTEND;TZID=Europe/Rome;VALUE=DATE:20240928
X-ALT-DESC;FMTTYPE=TEXT/HTML:Il 26 e 27 settembre 2024 a Matera si terrà l
 'Assemblea congressuale di Legacoop Abitanti\, dal titolo \"Cooperare al q
 uadrato. Progetto\, strumenti e cultura dell'abitare\".
CATEGORIES:Nazionale
URL;VALUE=URI:https://www.legacoop.coop/eventi/assemblea-congressuale-legac
 oop-abitanti/
METHOD:PUBLISH
END:VEVENT
END:VCALENDAR