BEGIN:VCALENDAR
VERSION:2.0
PRODID:spatie/icalendar-generator
DESCRIPTION:Eventi da Legacoop Nazionale
X-WR-CALDESC:Eventi da Legacoop Nazionale
REFRESH-INTERVAL;VALUE=DURATION:PT1440M
X-PUBLISHED-TTL:PT1440M
BEGIN:VTIMEZONE
TZID:Europe/Rome
BEGIN:STANDARD
DTSTART:20251026T030000Z
TZOFFSETFROM:+0200
TZOFFSETTO:+0100
END:STANDARD
BEGIN:DAYLIGHT
DTSTART:20260329T020000Z
TZOFFSETFROM:+0100
TZOFFSETTO:+0200
END:DAYLIGHT
BEGIN:STANDARD
DTSTART:20261025T030000Z
TZOFFSETFROM:+0200
TZOFFSETTO:+0100
END:STANDARD
END:VTIMEZONE
BEGIN:VTIMEZONE
TZID:UTC
BEGIN:STANDARD
DTSTART:20250726T230758Z
TZOFFSETFROM:+0000
TZOFFSETTO:+0000
END:STANDARD
END:VTIMEZONE
BEGIN:VEVENT
UID:260-221
DTSTAMP:20260422T230758Z
SUMMARY:SACE e LEGACOOP. Insieme per l’internazionalizzazione delle coope
 rative agroalimentari
LOCATION:
ORGANIZER;CN=legacoop:MAILTO:jacopo.panico@es-comunicazione.eu
DTSTART;TZID=Europe/Rome:20260428T170000
DTEND;TZID=Europe/Rome:20260428T190000
X-ALT-DESC;FMTTYPE=TEXT/HTML:Martedì 28 aprile alle 17 si terrà il live w
 ebinar \"SACE e LEGACOOP. Insieme per l’internazionalizzazione delle coo
 perative agroalimentari\". &amp;nbsp\; Il settore agroalimentare cooperativo r
 appresenta uno dei pilastri del Made in Italy\, con un ruolo strategico ne
 lla competitività dei territori e nello sviluppo delle filiere produttive
 . Le cooperative aderenti a LEGACOOP Agroalimentare riuniscono circa 1.400
 &amp;hellip\;
CATEGORIES:Nazionale,  Evidenza
URL;VALUE=URI:https://www.legacoop.coop/eventi/sace-e-legacoop-insieme-per-
 linternazionalizzazione-delle-cooperative-agroalimentari-2/
METHOD:PUBLISH
END:VEVENT
END:VCALENDAR