BEGIN:VCALENDAR
VERSION:2.0
PRODID:spatie/icalendar-generator
DESCRIPTION:Eventi da Legacoop Nazionale
X-WR-CALDESC:Eventi da Legacoop Nazionale
REFRESH-INTERVAL;VALUE=DURATION:PT1440M
X-PUBLISHED-TTL:PT1440M
BEGIN:VTIMEZONE
TZID:Europe/Rome
BEGIN:STANDARD
DTSTART:20251026T030000Z
TZOFFSETFROM:+0200
TZOFFSETTO:+0100
END:STANDARD
BEGIN:DAYLIGHT
DTSTART:20260329T020000Z
TZOFFSETFROM:+0100
TZOFFSETTO:+0200
END:DAYLIGHT
BEGIN:STANDARD
DTSTART:20261025T030000Z
TZOFFSETFROM:+0200
TZOFFSETTO:+0100
END:STANDARD
END:VTIMEZONE
BEGIN:VTIMEZONE
TZID:UTC
BEGIN:STANDARD
DTSTART:20250726T224939Z
TZOFFSETFROM:+0000
TZOFFSETTO:+0000
END:STANDARD
END:VTIMEZONE
BEGIN:VEVENT
UID:257-219
DTSTAMP:20260422T224939Z
SUMMARY:Consumi\, abusi e dipendenze: il 27 aprile incontro a Roma
LOCATION:
ORGANIZER;CN=legacoop:MAILTO:jacopo.panico@es-comunicazione.eu
DTSTART;TZID=Europe/Rome:20260427T103000
DTEND;TZID=Europe/Rome:20260427T133000
X-ALT-DESC;FMTTYPE=TEXT/HTML:Nuovi scenari\, nuove visioni\, nuovi modelli 
 territoriali di intervento con il Gruppo nazionale Dipendenze di Legacoops
 ociali. “CONSUMI\, ABUSI E DIPENDENZE - Nuovi scenari\, nuove visioni\, 
 nuovi modelli territoriali di intervento” si terrà in presenza a Roma\,
  lunedì 27 aprile\, alle 10.30\, presso Legacoop\, Via G.A. Guattani 9 - 
 salone Basevi. Le trasformazioni nei consumi\, negli&amp;hellip\;
CATEGORIES:Nazionale
URL;VALUE=URI:https://www.legacoop.coop/eventi/consumi-abusi-e-dipendenze-i
 l-27-aprile-incontro-a-roma/
METHOD:PUBLISH
END:VEVENT
END:VCALENDAR