BEGIN:VCALENDAR
VERSION:2.0
PRODID:spatie/icalendar-generator
DESCRIPTION:Eventi da Legacoop Nazionale
X-WR-CALDESC:Eventi da Legacoop Nazionale
REFRESH-INTERVAL;VALUE=DURATION:PT1440M
X-PUBLISHED-TTL:PT1440M
BEGIN:VTIMEZONE
TZID:Europe/Rome
BEGIN:STANDARD
DTSTART:20251026T030000Z
TZOFFSETFROM:+0200
TZOFFSETTO:+0100
END:STANDARD
BEGIN:DAYLIGHT
DTSTART:20260329T020000Z
TZOFFSETFROM:+0100
TZOFFSETTO:+0200
END:DAYLIGHT
BEGIN:STANDARD
DTSTART:20261025T030000Z
TZOFFSETFROM:+0200
TZOFFSETTO:+0100
END:STANDARD
END:VTIMEZONE
BEGIN:VTIMEZONE
TZID:UTC
BEGIN:STANDARD
DTSTART:20250727T002617Z
TZOFFSETFROM:+0000
TZOFFSETTO:+0000
END:STANDARD
END:VTIMEZONE
BEGIN:VEVENT
UID:261-222
DTSTAMP:20260423T002617Z
SUMMARY:Rigenerare e connettere territori e imprese
LOCATION:
ORGANIZER;CN=legacoop:MAILTO:jacopo.panico@es-comunicazione.eu
DTSTART;TZID=Europe/Rome:20260515T093000
DTEND;TZID=Europe/Rome:20260515T130000
X-ALT-DESC;FMTTYPE=TEXT/HTML:Consorzio Integra promuove l'evento \"Rigenera
 re e connettere territori e imprese. Il valore delle strutture consortili\
 ". Venerdì 15 maggio 2026 Roma\, Museo nazionale delle arti del XXI secol
 o MAXXI - 9.30-13.
CATEGORIES:Nazionale
URL;VALUE=URI:https://www.legacoop.coop/eventi/rigenerare-e-connettere-terr
 itori-e-imprese/
METHOD:PUBLISH
END:VEVENT
END:VCALENDAR